BEGIN:VCALENDAR
VERSION:2.0
PRODID:-//BHC Königsbrunn - ECPv6.15.17.1//NONSGML v1.0//EN
CALSCALE:GREGORIAN
METHOD:PUBLISH
X-WR-CALNAME:BHC Königsbrunn
X-ORIGINAL-URL:https://www.bhckoenigsbrunn.de
X-WR-CALDESC:Veranstaltungen für BHC Königsbrunn
REFRESH-INTERVAL;VALUE=DURATION:PT1H
X-Robots-Tag:noindex
X-PUBLISHED-TTL:PT1H
BEGIN:VTIMEZONE
TZID:Europe/Berlin
BEGIN:DAYLIGHT
TZOFFSETFROM:+0100
TZOFFSETTO:+0200
TZNAME:CEST
DTSTART:20250330T010000
END:DAYLIGHT
BEGIN:STANDARD
TZOFFSETFROM:+0200
TZOFFSETTO:+0100
TZNAME:CET
DTSTART:20251026T010000
END:STANDARD
BEGIN:DAYLIGHT
TZOFFSETFROM:+0100
TZOFFSETTO:+0200
TZNAME:CEST
DTSTART:20260329T010000
END:DAYLIGHT
BEGIN:STANDARD
TZOFFSETFROM:+0200
TZOFFSETTO:+0100
TZNAME:CET
DTSTART:20261025T010000
END:STANDARD
BEGIN:DAYLIGHT
TZOFFSETFROM:+0100
TZOFFSETTO:+0200
TZNAME:CEST
DTSTART:20270328T010000
END:DAYLIGHT
BEGIN:STANDARD
TZOFFSETFROM:+0200
TZOFFSETTO:+0100
TZNAME:CET
DTSTART:20271031T010000
END:STANDARD
END:VTIMEZONE
BEGIN:VEVENT
DTSTART;TZID=Europe/Berlin:20260425T100000
DTEND;TZID=Europe/Berlin:20260425T120000
DTSTAMP:20260422T104842
CREATED:20231125T090036Z
LAST-MODIFIED:20260216T163948Z
UID:10876-1777111200-1777118400@www.bhckoenigsbrunn.de
SUMMARY:Altpapier- und Altkleidersammlung
DESCRIPTION:Das Team rund um Olaf Mörchen sammelt wieder fleißig Altpapier und Altkleider!\nSeid mit dabei und unterstützt uns mit eurem Altpapier\, mistet Eure Kleiderschränke aus und bringt alles zu uns!\n \nTeilen mit:\n				Auf Facebook teilen (Wird in neuem Fenster geöffnet)\n				Facebook\n			\n				Auf X teilen (Wird in neuem Fenster geöffnet)\n				X
URL:https://www.bhckoenigsbrunn.de/altpapier-event/altpapier-und-altkleidersammlung-19/
CATEGORIES:Altkleider- und Altpapiersammlung
END:VEVENT
BEGIN:VEVENT
DTSTART;TZID=Europe/Berlin:20260523T100000
DTEND;TZID=Europe/Berlin:20260523T120000
DTSTAMP:20260422T104842
CREATED:20230105T165511Z
LAST-MODIFIED:20260216T164533Z
UID:10874-1779530400-1779537600@www.bhckoenigsbrunn.de
SUMMARY:Altpapier- und Altkleidersammlung
DESCRIPTION:Das Team rund um Olaf Mörchen sammelt wieder fleißig Altpapier und Altkleider!\n \nSeid mit dabei und unterstützt uns mit eurem Altpapier\, mistet Eure Kleiderschränke aus und bringt alles zu uns!\nZu finden sind die Jungs und Mädels am Beachplatz des BHC’S\nTeilen mit:\n				Auf Facebook teilen (Wird in neuem Fenster geöffnet)\n				Facebook\n			\n				Auf X teilen (Wird in neuem Fenster geöffnet)\n				X
URL:https://www.bhckoenigsbrunn.de/altpapier-event/altpapier-und-altkleidersammlung-18/
CATEGORIES:Altkleider- und Altpapiersammlung
END:VEVENT
BEGIN:VEVENT
DTSTART;TZID=Europe/Berlin:20260829T100000
DTEND;TZID=Europe/Berlin:20260829T120000
DTSTAMP:20260422T104842
CREATED:20220116T155050Z
LAST-MODIFIED:20260216T164436Z
UID:10872-1787997600-1788004800@www.bhckoenigsbrunn.de
SUMMARY:!!Achtung: Im August keine Sammlung!!
DESCRIPTION:Sammlung entfällt\nTeilen mit:\n				Auf Facebook teilen (Wird in neuem Fenster geöffnet)\n				Facebook\n			\n				Auf X teilen (Wird in neuem Fenster geöffnet)\n				X
URL:https://www.bhckoenigsbrunn.de/altpapier-event/altpapier-und-altkleidersammlung-17/
CATEGORIES:Altkleider- und Altpapiersammlung
END:VEVENT
END:VCALENDAR